BEGIN:VCALENDAR
VERSION:2.0
PRODID:-//104.152.168.27//NONSGML kigkonsult.se iCalcreator 2.20//
CALSCALE:GREGORIAN
METHOD:PUBLISH
X-WR-TIMEZONE:Asia/Tokyo
BEGIN:VEVENT
UID:event2883@Tokyo Gig Guide
DTSTAMP:20260421T013432Z
CATEGORIES:World
DESCRIPTION:Tony Guppy Unit\nCategory: World\nLink: https://www.tokyogiggui
 de.com/index.php?option=com_jem&view=event&id=2883:tony-guppy-unit&Itemid=
 1094\n
DTSTART:20100609T193000
DTEND:20100609T193000
LOCATION:Dolphy\,2-17-4-2F Miyagawa-cho\, Naka-ku\, Yokohama\,Yokohama
SUMMARY:Tony Guppy Unit
URL:https://www.tokyogigguide.com/index.php?option=com_jem&view=event&id=28
 83:tony-guppy-unit&Itemid=1094
END:VEVENT
END:VCALENDAR
