BEGIN:VCALENDAR
VERSION:2.0
PRODID:-//104.152.168.27//NONSGML kigkonsult.se iCalcreator 2.20//
CALSCALE:GREGORIAN
METHOD:PUBLISH
X-WR-TIMEZONE:Asia/Tokyo
BEGIN:VEVENT
UID:event28988@Tokyo Gig Guide
DTSTAMP:20260425T103843Z
CATEGORIES:Ambient\, DJ\, Neo-psychedelia\, Psychedelic\, Rock n Roll
DESCRIPTION:Ikuma Kawabe (Dhidalah\, AZARAK\, ex-Church of Misery)\, Yaryu\
 , Sebun\, DJ Cookie Boy\, Rock 'N' Roll Cult\nCategory: Ambient\, DJ\, Neo
 -psychedelia\, Psychedelic\, Rock n Roll\nLink: https://www.tokyogigguide.
 com/index.php?option=com_jem&view=event&id=28988:ikuma-kawabe-dhidalah-aza
 rak-ex-church-of-misery-yaryu-sebun-dj-cookie-boy-rock-n-roll-cult&Itemid=
 1094\n
DTSTART:20231011T200000
DTEND:20231011T200000
LOCATION:SPREAD\,2-12-6 Kitazawa\, Setagaya-ku\, Tokyo\,Shimokitazawa
SUMMARY:Ikuma Kawabe (Dhidalah\, AZARAK\, ex-Church of Misery)\, Yaryu\, Se
 bun\, DJ Cookie Boy\, Rock 'N' Roll Cult
URL:https://www.tokyogigguide.com/index.php?option=com_jem&view=event&id=28
 988:ikuma-kawabe-dhidalah-azarak-ex-church-of-misery-yaryu-sebun-dj-cookie
 -boy-rock-n-roll-cult&Itemid=1094
END:VEVENT
END:VCALENDAR
