BEGIN:VCALENDAR
VERSION:2.0
PRODID:-//104.152.168.27//NONSGML kigkonsult.se iCalcreator 2.20//
CALSCALE:GREGORIAN
METHOD:PUBLISH
X-WR-TIMEZONE:Asia/Tokyo
BEGIN:VEVENT
UID:event2951@Tokyo Gig Guide
DTSTAMP:20260424T224848Z
CATEGORIES:Mixed Genre
DESCRIPTION:FASHION CRISIS w/Ecchi Shoushin\, Yamaco\, Darklaw\nCategory: M
 ixed Genre\nLink: https://www.tokyogigguide.com/index.php?option=com_jem&v
 iew=event&id=2951:fashion-crisis-wecchi-shoushin-yamaco-darklaw&Itemid=109
 4\n
DTSTART:20100605T190000
DTEND:20100605T190000
LOCATION:Knock (Koenji)\,Koenji Minami 3-48-6  B1F\,Koenji
SUMMARY:FASHION CRISIS w/Ecchi Shoushin\, Yamaco\, Darklaw
URL:https://www.tokyogigguide.com/index.php?option=com_jem&view=event&id=29
 51:fashion-crisis-wecchi-shoushin-yamaco-darklaw&Itemid=1094
END:VEVENT
END:VCALENDAR
