BEGIN:VCALENDAR
VERSION:2.0
PRODID:-//104.152.168.27//NONSGML kigkonsult.se iCalcreator 2.20//
CALSCALE:GREGORIAN
METHOD:PUBLISH
X-WR-TIMEZONE:Asia/Tokyo
BEGIN:VEVENT
UID:event30064@Tokyo Gig Guide
DTSTAMP:20260425T223159Z
CATEGORIES:Blues\, Improvised\, Instrumental\, Jazz
DESCRIPTION:Natsuki Kido\,Jiro Okada\,Youichi Okabe\nCategory: Blues\, Impr
 ovised\, Instrumental\, Jazz\nLink: https://www.tokyogigguide.com/index.ph
 p?option=com_jem&view=event&id=30064:natsuki-kido-jiro-okada-youichi-okabe
 &Itemid=1094\n
DTSTART:20240204T183000
DTEND:20240204T183000
LOCATION:Jirokichi\,Koenji Bldg B1\, 2-3-4 Koenji-kita\,Koenji
SUMMARY:Natsuki Kido\,Jiro Okada\,Youichi Okabe
URL:https://www.tokyogigguide.com/index.php?option=com_jem&view=event&id=30
 064:natsuki-kido-jiro-okada-youichi-okabe&Itemid=1094
END:VEVENT
END:VCALENDAR
