BEGIN:VCALENDAR
VERSION:2.0
PRODID:-//104.152.168.27//NONSGML kigkonsult.se iCalcreator 2.20//
CALSCALE:GREGORIAN
METHOD:PUBLISH
X-WR-TIMEZONE:Asia/Tokyo
BEGIN:VEVENT
UID:event30067@Tokyo Gig Guide
DTSTAMP:20260425T202615Z
CATEGORIES:Blues
DESCRIPTION:Aika Ono Blues Party\nCategory: Blues\nLink: https://www.tokyog
 igguide.com/index.php?option=com_jem&view=event&id=30067:aika-ono-blues-pa
 rty&Itemid=1094\n
DTSTART:20240203T183000
DTEND:20240203T183000
LOCATION:Jirokichi\,Koenji Bldg B1\, 2-3-4 Koenji-kita\,Koenji
SUMMARY:Aika Ono Blues Party
URL:https://www.tokyogigguide.com/index.php?option=com_jem&view=event&id=30
 067:aika-ono-blues-party&Itemid=1094
END:VEVENT
END:VCALENDAR
