BEGIN:VCALENDAR
VERSION:2.0
PRODID:-//104.152.168.27//NONSGML kigkonsult.se iCalcreator 2.20//
CALSCALE:GREGORIAN
METHOD:PUBLISH
X-WR-TIMEZONE:Asia/Tokyo
BEGIN:VEVENT
UID:event30152@Tokyo Gig Guide
DTSTAMP:20260421T202729Z
CATEGORIES:Blues\, Instrumental\, Rock\, Rock n Roll
DESCRIPTION:COIL (Natsuki Kido\, Takeharu Hayakawa\, Eiji Tanaka\,Tsutomu N
 akayama)\nCategory: Blues\, Instrumental\, Rock\, Rock n Roll\nLink: https
 ://www.tokyogigguide.com/index.php?option=com_jem&view=event&id=30152:coil
 -natsuki-kido-takeharu-hayakawa-eiji-tanaka-tsutomu-nakayama&Itemid=1094\n
DTSTART:20240209T183000
DTEND:20240209T183000
LOCATION:Ongakushitsu DX\,B1F 3-20-4 Nishiwaseda Shinjuku-ku Tokyo\,Takadan
 obaba
SUMMARY:COIL (Natsuki Kido\, Takeharu Hayakawa\, Eiji Tanaka\,Tsutomu Nakay
 ama)
URL:https://www.tokyogigguide.com/index.php?option=com_jem&view=event&id=30
 152:coil-natsuki-kido-takeharu-hayakawa-eiji-tanaka-tsutomu-nakayama&Itemi
 d=1094
END:VEVENT
END:VCALENDAR
