BEGIN:VCALENDAR
VERSION:2.0
PRODID:-//104.152.168.27//NONSGML kigkonsult.se iCalcreator 2.20//
CALSCALE:GREGORIAN
METHOD:PUBLISH
X-WR-TIMEZONE:Asia/Tokyo
BEGIN:VEVENT
UID:event30590@Tokyo Gig Guide
DTSTAMP:20260423T001107Z
CATEGORIES:Blues\, Improvised\, Rock
DESCRIPTION:COIL (Natsuki Kido\, Takeharu Hayakawa\, Tsutomu Nakatyama\, Ei
 ji Tanaka)\nCategory: Blues\, Improvised\, Rock\nLink: https://www.tokyogi
 gguide.com/index.php?option=com_jem&view=event&id=30590:coil-natsuki-kido-
 takeharu-hayakawa-tsutomu-nakatyama-eiji-tanaka&Itemid=1094\n
DTSTART:20240401T183000
DTEND:20240401T183000
LOCATION:Ongakushitsu DX\,B1F 3-20-4 Nishiwaseda Shinjuku-ku Tokyo\,Takadan
 obaba
SUMMARY:COIL (Natsuki Kido\, Takeharu Hayakawa\, Tsutomu Nakatyama\, Eiji T
 anaka)
URL:https://www.tokyogigguide.com/index.php?option=com_jem&view=event&id=30
 590:coil-natsuki-kido-takeharu-hayakawa-tsutomu-nakatyama-eiji-tanaka&Item
 id=1094
END:VEVENT
END:VCALENDAR
