BEGIN:VCALENDAR
VERSION:2.0
PRODID:-//104.152.168.27//NONSGML kigkonsult.se iCalcreator 2.20//
CALSCALE:GREGORIAN
METHOD:PUBLISH
X-WR-TIMEZONE:Asia/Tokyo
BEGIN:VEVENT
UID:event30613@Tokyo Gig Guide
DTSTAMP:20260423T074654Z
CATEGORIES:Acoustic\, Blues\, Folk\, Instrumental\, Jazz
DESCRIPTION:FRETLAND Duo (Natsuki Kido\, Shunji Takenaka)\nCategory: Acoust
 ic\, Blues\, Folk\, Instrumental\, Jazz\nLink: https://www.tokyogigguide.c
 om/index.php?option=com_jem&view=event&id=30613:fretland-duo-natsuki-kido-
 shunji-takenaka&Itemid=1094\n
DTSTART:20240502T183000
DTEND:20240502T183000
LOCATION:Ongakushitsu DX\,B1F 3-20-4 Nishiwaseda Shinjuku-ku Tokyo\,Takadan
 obaba
SUMMARY:FRETLAND Duo (Natsuki Kido\, Shunji Takenaka)
URL:https://www.tokyogigguide.com/index.php?option=com_jem&view=event&id=30
 613:fretland-duo-natsuki-kido-shunji-takenaka&Itemid=1094
END:VEVENT
END:VCALENDAR
