BEGIN:VCALENDAR
VERSION:2.0
PRODID:-//104.152.168.27//NONSGML kigkonsult.se iCalcreator 2.20//
CALSCALE:GREGORIAN
METHOD:PUBLISH
X-WR-TIMEZONE:Asia/Tokyo
BEGIN:VEVENT
UID:event30638@Tokyo Gig Guide
DTSTAMP:20260421T151644Z
CATEGORIES:Avant garde\, Free Jazz\, Improvised\, Instrumental
DESCRIPTION:Sekkutsu Jean (Kenji Sato\, Tatsuya Yoshida) + Ippei Kato\nCate
 gory: Avant garde\, Free Jazz\, Improvised\, Instrumental\nLink: https://w
 ww.tokyogigguide.com/index.php?option=com_jem&view=event&id=30638:sekkutsu
 -jean-kenji-sato-tatsuya-yoshida-ippei-kato&Itemid=1094\n
DTSTART:20240318T183000
DTEND:20240318T183000
LOCATION:Jirokichi\,Koenji Bldg B1\, 2-3-4 Koenji-kita\,Koenji
SUMMARY:Sekkutsu Jean (Kenji Sato\, Tatsuya Yoshida) + Ippei Kato
URL:https://www.tokyogigguide.com/index.php?option=com_jem&view=event&id=30
 638:sekkutsu-jean-kenji-sato-tatsuya-yoshida-ippei-kato&Itemid=1094
END:VEVENT
END:VCALENDAR
