BEGIN:VCALENDAR
VERSION:2.0
PRODID:-//104.152.168.27//NONSGML kigkonsult.se iCalcreator 2.20//
CALSCALE:GREGORIAN
METHOD:PUBLISH
X-WR-TIMEZONE:Asia/Tokyo
BEGIN:VEVENT
UID:event30988@Tokyo Gig Guide
DTSTAMP:20260421T063645Z
CATEGORIES:Improvised\, Indie-Rock\, New Wave\, Post-Punk\, Progressive
DESCRIPTION:MISSING HEADS: Kazuhide Yamaji + Mitsuru Tabata  + Tatsuya Yosh
 ida  \nCategory: Improvised\, Indie-Rock\, New Wave\, Post-Punk\, Progress
 ive\nLink: https://www.tokyogigguide.com/index.php?option=com_jem&view=eve
 nt&id=30988:missing-heads-kazuhide-yamaji-mitsuru-tabata-tatsuya-yoshida&I
 temid=1094\n
DTSTART:20240407T183000
DTEND:20240407T183000
LOCATION:Jirokichi\,Koenji Bldg B1\, 2-3-4 Koenji-kita\,Koenji
SUMMARY:MISSING HEADS: Kazuhide Yamaji + Mitsuru Tabata  + Tatsuya Yoshida 
  
URL:https://www.tokyogigguide.com/index.php?option=com_jem&view=event&id=30
 988:missing-heads-kazuhide-yamaji-mitsuru-tabata-tatsuya-yoshida&Itemid=10
 94
END:VEVENT
END:VCALENDAR
