BEGIN:VCALENDAR
VERSION:2.0
PRODID:-//104.152.168.27//NONSGML kigkonsult.se iCalcreator 2.20//
CALSCALE:GREGORIAN
METHOD:PUBLISH
X-WR-TIMEZONE:Asia/Tokyo
BEGIN:VEVENT
UID:event31051@Tokyo Gig Guide
DTSTAMP:20260420T234209Z
CATEGORIES:Rock\, Improvised
DESCRIPTION:HONNOMAJIKANAHARU: LAPIZ\, HIGO HIROSHI\, FUJIKAKEMASATAKA\, TA
 TSUMI MITSUHIDE\, NAKAMURA TOSHIMARU\nCategory: Rock\, Improvised\nLink: h
 ttps://www.tokyogigguide.com/index.php?option=com_jem&view=event&id=31051:
 honnomajikanaharu-lapiz-higo-hiroshi-fujikakemasataka-tatsumi-mitsuhide-na
 kamura-toshimaru&Itemid=1094\n
DTSTART:20240507T183000
DTEND:20240507T183000
LOCATION:Jirokichi\,Koenji Bldg B1\, 2-3-4 Koenji-kita\,Koenji
SUMMARY:HONNOMAJIKANAHARU: LAPIZ\, HIGO HIROSHI\, FUJIKAKEMASATAKA\, TATSUM
 I MITSUHIDE\, NAKAMURA TOSHIMARU
URL:https://www.tokyogigguide.com/index.php?option=com_jem&view=event&id=31
 051:honnomajikanaharu-lapiz-higo-hiroshi-fujikakemasataka-tatsumi-mitsuhid
 e-nakamura-toshimaru&Itemid=1094
END:VEVENT
END:VCALENDAR
