BEGIN:VCALENDAR
VERSION:2.0
PRODID:-//104.152.168.27//NONSGML kigkonsult.se iCalcreator 2.20//
CALSCALE:GREGORIAN
METHOD:PUBLISH
X-WR-TIMEZONE:Asia/Tokyo
BEGIN:VEVENT
UID:event31459@Tokyo Gig Guide
DTSTAMP:20260423T163819Z
CATEGORIES:Improvised\, Avant garde\, Experimental\, Instrumental\, Rock
DESCRIPTION:TRITONE: Minato Masafumi\, Koseki Sumitada\, Fujikake Masataka\
 , Kato Takayuki\nCategory: Improvised\, Avant garde\, Experimental\, Instr
 umental\, Rock\nLink: https://www.tokyogigguide.com/index.php?option=com_j
 em&view=event&id=31459:tritone-minato-masafumi-koseki-sumitada-fujikake-ma
 sataka-kato-takayuki&Itemid=1094\n
DTSTART:20240604T183000
DTEND:20240604T183000
LOCATION:Jirokichi\,Koenji Bldg B1\, 2-3-4 Koenji-kita\,Koenji
SUMMARY:TRITONE: Minato Masafumi\, Koseki Sumitada\, Fujikake Masataka\, Ka
 to Takayuki
URL:https://www.tokyogigguide.com/index.php?option=com_jem&view=event&id=31
 459:tritone-minato-masafumi-koseki-sumitada-fujikake-masataka-kato-takayuk
 i&Itemid=1094
END:VEVENT
END:VCALENDAR
