BEGIN:VCALENDAR
VERSION:2.0
PRODID:-//104.152.168.27//NONSGML kigkonsult.se iCalcreator 2.20//
CALSCALE:GREGORIAN
METHOD:PUBLISH
X-WR-TIMEZONE:Asia/Tokyo
BEGIN:VEVENT
UID:event31487@Tokyo Gig Guide
DTSTAMP:20260422T101627Z
CATEGORIES:Fusion\, Improvised\, Instrumental\, Jazz
DESCRIPTION:Natsuki Kido\, Jiro Okada\, Motonosuke Higuchi\nCategory: Fusio
 n\, Improvised\, Instrumental\, Jazz\nLink: https://www.tokyogigguide.com/
 index.php?option=com_jem&view=event&id=31487:natsuki-kido-jiro-okada-moton
 osuke-higuchi&Itemid=1094\n
DTSTART:20240520T183000
DTEND:20240520T183000
LOCATION:Ongakushitsu DX\,B1F 3-20-4 Nishiwaseda Shinjuku-ku Tokyo\,Takadan
 obaba
SUMMARY:Natsuki Kido\, Jiro Okada\, Motonosuke Higuchi
URL:https://www.tokyogigguide.com/index.php?option=com_jem&view=event&id=31
 487:natsuki-kido-jiro-okada-motonosuke-higuchi&Itemid=1094
END:VEVENT
END:VCALENDAR
