BEGIN:VCALENDAR
VERSION:2.0
PRODID:-//104.152.168.27//NONSGML kigkonsult.se iCalcreator 2.20//
CALSCALE:GREGORIAN
METHOD:PUBLISH
X-WR-TIMEZONE:Asia/Tokyo
BEGIN:VEVENT
UID:event31728@Tokyo Gig Guide
DTSTAMP:20260423T141626Z
CATEGORIES:Progressive\, Instrumental\, Avant garde
DESCRIPTION:Korekyojinn (Natsuki Kido\, Kei Koganemaru\, Tatsuya Yoshida)\n
 Category: Progressive\, Instrumental\, Avant garde\nLink: https://www.toky
 ogigguide.com/index.php?option=com_jem&view=event&id=31728:korekyojinn-nat
 suki-kido-kei-koganemaru-tatsuya-yoshida&Itemid=1094\n
DTSTART:20240618T183000
DTEND:20240618T183000
LOCATION:Jirokichi\,Koenji Bldg B1\, 2-3-4 Koenji-kita\,Koenji
SUMMARY:Korekyojinn (Natsuki Kido\, Kei Koganemaru\, Tatsuya Yoshida)
URL:https://www.tokyogigguide.com/index.php?option=com_jem&view=event&id=31
 728:korekyojinn-natsuki-kido-kei-koganemaru-tatsuya-yoshida&Itemid=1094
END:VEVENT
END:VCALENDAR
