BEGIN:VCALENDAR
VERSION:2.0
PRODID:-//104.152.168.27//NONSGML kigkonsult.se iCalcreator 2.20//
CALSCALE:GREGORIAN
METHOD:PUBLISH
X-WR-TIMEZONE:Asia/Tokyo
BEGIN:VEVENT
UID:event31805@Tokyo Gig Guide
DTSTAMP:20260421T000204Z
CATEGORIES:Avant garde\, Free Jazz\, Improvised
DESCRIPTION:Masaaki Yamazaki\, Yasushi Ishikawa\, Naoyasu Takahashi\nCatego
 ry: Avant garde\, Free Jazz\, Improvised\nLink: https://www.tokyogigguide.
 com/index.php?option=com_jem&view=event&id=31805:masaaki-yamazaki-yasushi-
 ishikawa-naoyasu-takahashi&Itemid=1094\n
DTSTART:20240725T193000
DTEND:20240725T193000
LOCATION:In-F\,3F 3-4-19 higashiooizumi\, nerima-ku\, Tokyo\,Oizumigakuen
SUMMARY:Masaaki Yamazaki\, Yasushi Ishikawa\, Naoyasu Takahashi
URL:https://www.tokyogigguide.com/index.php?option=com_jem&view=event&id=31
 805:masaaki-yamazaki-yasushi-ishikawa-naoyasu-takahashi&Itemid=1094
END:VEVENT
END:VCALENDAR
