BEGIN:VCALENDAR
VERSION:2.0
PRODID:-//104.152.168.27//NONSGML kigkonsult.se iCalcreator 2.20//
CALSCALE:GREGORIAN
METHOD:PUBLISH
X-WR-TIMEZONE:Asia/Tokyo
BEGIN:VEVENT
UID:event31915@Tokyo Gig Guide
DTSTAMP:20260420T162924Z
CATEGORIES:Acoustic\, Free Jazz\, Improvised
DESCRIPTION:Tatsuyuki Tamai (pf)\, Takashi Yamane (cl)\, Kaoru Nishimura (c
 l)\nCategory: Acoustic\, Free Jazz\, Improvised\nLink: https://www.tokyogi
 gguide.com/index.php?option=com_jem&view=event&id=31915:tatsuyuki-tamai-pf
 -takasgi-yamane-cl-kaoru-nishimura-cl&Itemid=1094\n
DTSTART:20240906T190000
DTEND:20240906T190000
LOCATION:In-F\,3F 3-4-19 higashiooizumi\, nerima-ku\, Tokyo\,Oizumigakuen
SUMMARY:Tatsuyuki Tamai (pf)\, Takashi Yamane (cl)\, Kaoru Nishimura (cl)
URL:https://www.tokyogigguide.com/index.php?option=com_jem&view=event&id=31
 915:tatsuyuki-tamai-pf-takasgi-yamane-cl-kaoru-nishimura-cl&Itemid=1094
END:VEVENT
END:VCALENDAR
