BEGIN:VCALENDAR
VERSION:2.0
PRODID:-//104.152.168.27//NONSGML kigkonsult.se iCalcreator 2.20//
CALSCALE:GREGORIAN
METHOD:PUBLISH
X-WR-TIMEZONE:Asia/Tokyo
BEGIN:VEVENT
UID:event3227@Tokyo Gig Guide
DTSTAMP:20260421T064507Z
CATEGORIES:Electronic Rock
DESCRIPTION:WRENCH\, CHAOS JOCKEY (Seiichi Yamamoto + Chatani Masayuki)\, d
 rumno\nCategory: Electronic Rock\nLink: https://www.tokyogigguide.com/inde
 x.php?option=com_jem&view=event&id=3227:wrench-chaos-jockey-seiichi-yamamo
 to--chatani-masayuki-drumno&Itemid=1094\n
DTSTART:20100819T190000
DTEND:20100819T190000
LOCATION:Three\,Kitazawa 5-18-1 B1F\, Setagaya-ku\, Tokyo\,Shimokitazawa
SUMMARY:WRENCH\, CHAOS JOCKEY (Seiichi Yamamoto + Chatani Masayuki)\, drumn
 o
URL:https://www.tokyogigguide.com/index.php?option=com_jem&view=event&id=32
 27:wrench-chaos-jockey-seiichi-yamamoto--chatani-masayuki-drumno&Itemid=10
 94
END:VEVENT
END:VCALENDAR
