BEGIN:VCALENDAR
VERSION:2.0
PRODID:-//104.152.168.27//NONSGML kigkonsult.se iCalcreator 2.20//
CALSCALE:GREGORIAN
METHOD:PUBLISH
X-WR-TIMEZONE:Asia/Tokyo
BEGIN:VEVENT
UID:event3228@Tokyo Gig Guide
DTSTAMP:20260422T190237Z
CATEGORIES:Noise Rock
DESCRIPTION:Limited Express (has gone?) vs folk enough\nCategory: Noise Roc
 k\nLink: https://www.tokyogigguide.com/index.php?option=com_jem&view=event
 &id=3228:limited-express-has-gone-vs-folk-enough&Itemid=1094\n
DTSTART:20100822T183000
DTEND:20100822T183000
LOCATION:Three\,Kitazawa 5-18-1 B1F\, Setagaya-ku\, Tokyo\,Shimokitazawa
SUMMARY:Limited Express (has gone?) vs folk enough
URL:https://www.tokyogigguide.com/index.php?option=com_jem&view=event&id=32
 28:limited-express-has-gone-vs-folk-enough&Itemid=1094
END:VEVENT
END:VCALENDAR
