BEGIN:VCALENDAR
VERSION:2.0
PRODID:-//104.152.168.27//NONSGML kigkonsult.se iCalcreator 2.20//
CALSCALE:GREGORIAN
METHOD:PUBLISH
X-WR-TIMEZONE:Asia/Tokyo
BEGIN:VEVENT
UID:event32517@Tokyo Gig Guide
DTSTAMP:20260423T221357Z
CATEGORIES:Alternative\, Avant garde\, Improvised\, Instrumental
DESCRIPTION:Casimir Liberski\, Tatsuya Yoshida\nCategory: Alternative\, Ava
 nt garde\, Improvised\, Instrumental\nLink: https://www.tokyogigguide.com/
 index.php?option=com_jem&view=event&id=32517:casimir-liberski-tatsuya-yosh
 ida&Itemid=1094\n
DTSTART:20240903T183000
DTEND:20240903T183000
LOCATION:Jirokichi\,Koenji Bldg B1\, 2-3-4 Koenji-kita\,Koenji
SUMMARY:Casimir Liberski\, Tatsuya Yoshida
URL:https://www.tokyogigguide.com/index.php?option=com_jem&view=event&id=32
 517:casimir-liberski-tatsuya-yoshida&Itemid=1094
END:VEVENT
END:VCALENDAR
