BEGIN:VCALENDAR
VERSION:2.0
PRODID:-//104.152.168.27//NONSGML kigkonsult.se iCalcreator 2.20//
CALSCALE:GREGORIAN
METHOD:PUBLISH
X-WR-TIMEZONE:Asia/Tokyo
BEGIN:VEVENT
UID:event32548@Tokyo Gig Guide
DTSTAMP:20260425T135818Z
CATEGORIES:Hardcore\, Post-Punk\, Indie\, Punk\, Pop-punk
DESCRIPTION:Limited Express (has gone?)\, FUCK ON THE BEACH\, でぶコーネリアスEX\, 
 THPY\nCategory: Hardcore\, Post-Punk\, Indie\, Punk\, Pop-punk\nLink: http
 s://www.tokyogigguide.com/index.php?option=com_jem&view=event&id=32548:lim
 ited-express-has-gone&Itemid=1094\n
DTSTART:20240927T190000
DTEND:20240927T190000
LOCATION:SPREAD\,2-12-6 Kitazawa\, Setagaya-ku\, Tokyo\,Shimokitazawa
SUMMARY:Limited Express (has gone?)\, FUCK ON THE BEACH\, でぶコーネリアスEX\, THPY
URL:https://www.tokyogigguide.com/index.php?option=com_jem&view=event&id=32
 548:limited-express-has-gone&Itemid=1094
END:VEVENT
END:VCALENDAR
