BEGIN:VCALENDAR
VERSION:2.0
PRODID:-//104.152.168.27//NONSGML kigkonsult.se iCalcreator 2.20//
CALSCALE:GREGORIAN
METHOD:PUBLISH
X-WR-TIMEZONE:Asia/Tokyo
BEGIN:VEVENT
UID:event3301@Tokyo Gig Guide
DTSTAMP:20260423T065002Z
CATEGORIES:Mixed Genre
DESCRIPTION:Tokyo Gig Guide presents FARM PARTY #3 w/ 1000s of cats\, Abiky
 okan\, Psocase\, more\nCategory: Mixed Genre\nLink: https://www.tokyogiggu
 ide.com/index.php?option=com_jem&view=event&id=3301:farm-party-3-w-1000s-o
 f-cats-abikyokan-psocase-more&Itemid=1094\n
DTSTART:20100905T183000
DTEND:20100905T183000
LOCATION:Gamuso\,Takuei Building 2F\, Asagaya-kita 2-12-5\,Asagaya
SUMMARY:Tokyo Gig Guide presents FARM PARTY #3 w/ 1000s of cats\, Abikyokan
 \, Psocase\, more
URL:https://www.tokyogigguide.com/index.php?option=com_jem&view=event&id=33
 01:farm-party-3-w-1000s-of-cats-abikyokan-psocase-more&Itemid=1094
END:VEVENT
END:VCALENDAR
