BEGIN:VCALENDAR
VERSION:2.0
PRODID:-//104.152.168.27//NONSGML kigkonsult.se iCalcreator 2.20//
CALSCALE:GREGORIAN
METHOD:PUBLISH
X-WR-TIMEZONE:Asia/Tokyo
BEGIN:VEVENT
UID:event3302@Tokyo Gig Guide
DTSTAMP:20260424T201611Z
CATEGORIES:Experimental
DESCRIPTION:FARM PARTY #4 with ii (Australia)\, OPQ\, henna dress\, Moon Fa
 ce Boys\, Aleks & the Ramps DJs\, more\nCategory: Experimental\nLink: http
 s://www.tokyogigguide.com/index.php?option=com_jem&view=event&id=3302:farm
 -party-4-with-ii-australia-opq-henna-dress-moon-face-boys-aleks-a-the-ramp
 s-djs-more&Itemid=1094\n
DTSTART:20101024T183000
DTEND:20101024T183000
LOCATION:Gamuso\,Takuei Building 2F\, Asagaya-kita 2-12-5\,Asagaya
SUMMARY:FARM PARTY #4 with ii (Australia)\, OPQ\, henna dress\, Moon Face B
 oys\, Aleks & the Ramps DJs\, more
URL:https://www.tokyogigguide.com/index.php?option=com_jem&view=event&id=33
 02:farm-party-4-with-ii-australia-opq-henna-dress-moon-face-boys-aleks-a-t
 he-ramps-djs-more&Itemid=1094
END:VEVENT
END:VCALENDAR
