BEGIN:VCALENDAR
VERSION:2.0
PRODID:-//104.152.168.27//NONSGML kigkonsult.se iCalcreator 2.20//
CALSCALE:GREGORIAN
METHOD:PUBLISH
X-WR-TIMEZONE:Asia/Tokyo
BEGIN:VEVENT
UID:event33061@Tokyo Gig Guide
DTSTAMP:20260425T215904Z
CATEGORIES:Experimental\, Funk\, Improvised
DESCRIPTION:The True Three Per: Whoacho\, Semba Kiyohiko\, Fujikake Masatak
 a\, KenKen\nCategory: Experimental\, Funk\, Improvised\nLink: https://www.
 tokyogigguide.com/index.php?option=com_jem&view=event&id=33061:the-true-th
 ree-per-whoacho-semba-kiyohiko-fujikake-masataka-kenken&Itemid=1094\n
DTSTART:20241001T183000
DTEND:20241001T183000
LOCATION:Jirokichi\,Koenji Bldg B1\, 2-3-4 Koenji-kita\,Koenji
SUMMARY:The True Three Per: Whoacho\, Semba Kiyohiko\, Fujikake Masataka\, 
 KenKen
URL:https://www.tokyogigguide.com/index.php?option=com_jem&view=event&id=33
 061:the-true-three-per-whoacho-semba-kiyohiko-fujikake-masataka-kenken&Ite
 mid=1094
END:VEVENT
END:VCALENDAR
