BEGIN:VCALENDAR
VERSION:2.0
PRODID:-//104.152.168.27//NONSGML kigkonsult.se iCalcreator 2.20//
CALSCALE:GREGORIAN
METHOD:PUBLISH
X-WR-TIMEZONE:Asia/Tokyo
BEGIN:VEVENT
UID:event33470@Tokyo Gig Guide
DTSTAMP:20260426T011830Z
CATEGORIES:Dance
DESCRIPTION:migeru (GOODNIGHT)，MUNÉO，misa nakamura\, 爆発機関車，水母娘娘，化学繊維\nCateg
 ory: Dance\nLink: https://www.tokyogigguide.com/index.php?option=com_jem&v
 iew=event&id=33470:migeru-goodnight-misa-nakamuramuneo&Itemid=1094\n
DTSTART:20241101T180000
DTEND:20241101T180000
LOCATION:SPREAD\,2-12-6 Kitazawa\, Setagaya-ku\, Tokyo\,Shimokitazawa
SUMMARY:migeru (GOODNIGHT)，MUNÉO，misa nakamura\, 爆発機関車，水母娘娘，化学繊維
URL:https://www.tokyogigguide.com/index.php?option=com_jem&view=event&id=33
 470:migeru-goodnight-misa-nakamuramuneo&Itemid=1094
END:VEVENT
END:VCALENDAR
