BEGIN:VCALENDAR
VERSION:2.0
PRODID:-//104.152.168.27//NONSGML kigkonsult.se iCalcreator 2.20//
CALSCALE:GREGORIAN
METHOD:PUBLISH
X-WR-TIMEZONE:Asia/Tokyo
BEGIN:VEVENT
UID:event33892@Tokyo Gig Guide
DTSTAMP:20260420T041413Z
CATEGORIES:Improvised
DESCRIPTION:Komori Toshiaki (小森 俊明)\, Showji Masaharu (庄子 勝治)\, Mochizuki T
 akinojo (望月 太喜之丞)\, Miyamoto Takashi (宮本 隆)\nCategory: Improvised\nLink: h
 ttps://www.tokyogigguide.com/index.php?option=com_jem&view=event&id=33892:
 komori-toshiaki-piano-showji-masaharu-sax-bass-clarinet-shakuhachi-mochizu
 ki-takinojo-tuzumi&Itemid=1094\n
DTSTART:20241207T183000
DTEND:20241207T183000
LOCATION:In-F\,3F 3-4-19 higashiooizumi\, nerima-ku\, Tokyo\,Oizumigakuen
SUMMARY:Komori Toshiaki (小森 俊明)\, Showji Masaharu (庄子 勝治)\, Mochizuki Takin
 ojo (望月 太喜之丞)\, Miyamoto Takashi (宮本 隆)
URL:https://www.tokyogigguide.com/index.php?option=com_jem&view=event&id=33
 892:komori-toshiaki-piano-showji-masaharu-sax-bass-clarinet-shakuhachi-moc
 hizuki-takinojo-tuzumi&Itemid=1094
END:VEVENT
END:VCALENDAR
