BEGIN:VCALENDAR
VERSION:2.0
PRODID:-//104.152.168.27//NONSGML kigkonsult.se iCalcreator 2.20//
CALSCALE:GREGORIAN
METHOD:PUBLISH
X-WR-TIMEZONE:Asia/Tokyo
BEGIN:VEVENT
UID:event33977@Tokyo Gig Guide
DTSTAMP:20260422T022044Z
CATEGORIES:Experimental\, Improvised\, Instrumental\, Rock
DESCRIPTION:IM KELLER: YAMAJI KAZUHIDE (g)\, FUJIKAKE MASATAKA (ds) + guest
  NASUNO MITSURU (b)\nCategory: Experimental\, Improvised\, Instrumental\, 
 Rock\nLink: https://www.tokyogigguide.com/index.php?option=com_jem&view=ev
 ent&id=33977:im-kleller&Itemid=1094\n
DTSTART:20250122T183000
DTEND:20250122T183000
LOCATION:Jirokichi\,Koenji Bldg B1\, 2-3-4 Koenji-kita\,Koenji
SUMMARY:IM KELLER: YAMAJI KAZUHIDE (g)\, FUJIKAKE MASATAKA (ds) + guest NAS
 UNO MITSURU (b)
URL:https://www.tokyogigguide.com/index.php?option=com_jem&view=event&id=33
 977:im-kleller&Itemid=1094
END:VEVENT
END:VCALENDAR
