BEGIN:VCALENDAR
VERSION:2.0
PRODID:-//104.152.168.27//NONSGML kigkonsult.se iCalcreator 2.20//
CALSCALE:GREGORIAN
METHOD:PUBLISH
X-WR-TIMEZONE:Asia/Tokyo
BEGIN:VEVENT
UID:event34078@Tokyo Gig Guide
DTSTAMP:20260421T075118Z
CATEGORIES:Improvised
DESCRIPTION:Motoko Honda\, Ayako Kanda\, Yusei kaneko\, Marcos Fernandes\nC
 ategory: Improvised\nLink: https://www.tokyogigguide.com/index.php?option=
 com_jem&view=event&id=34078:motoko-honda-ayako-kanda-yusei-kaneko-marcos-f
 ernandes&Itemid=1094\n
DTSTART:20250119T180000
DTEND:20250119T180000
LOCATION:Dolphy\,2-17-4-2F Miyagawa-cho\, Naka-ku\, Yokohama\,Yokohama
SUMMARY:Motoko Honda\, Ayako Kanda\, Yusei kaneko\, Marcos Fernandes
URL:https://www.tokyogigguide.com/index.php?option=com_jem&view=event&id=34
 078:motoko-honda-ayako-kanda-yusei-kaneko-marcos-fernandes&Itemid=1094
END:VEVENT
END:VCALENDAR
