BEGIN:VCALENDAR
VERSION:2.0
PRODID:-//104.152.168.27//NONSGML kigkonsult.se iCalcreator 2.20//
CALSCALE:GREGORIAN
METHOD:PUBLISH
X-WR-TIMEZONE:Asia/Tokyo
BEGIN:VEVENT
UID:event3417@Tokyo Gig Guide
DTSTAMP:20260421T221619Z
CATEGORIES:All Mix
DESCRIPTION:Fashion Crisis w/ DJs Duckrock\, Wizz Jones\, Jody Godoy\, Jame
 s Hadfield\, Ian Martin\nCategory: All Mix\nLink: https://www.tokyogigguid
 e.com/index.php?option=com_jem&view=event&id=3417:fashion-crisis-w-djs-duc
 krock-wizz-jones-jody-godoy-james-hadfield-ian-martin&Itemid=1094\n
DTSTART:20100904T190000
DTEND:20100904T190000
LOCATION:Knock (Koenji)\,Koenji Minami 3-48-6  B1F\,Koenji
SUMMARY:Fashion Crisis w/ DJs Duckrock\, Wizz Jones\, Jody Godoy\, James Ha
 dfield\, Ian Martin
URL:https://www.tokyogigguide.com/index.php?option=com_jem&view=event&id=34
 17:fashion-crisis-w-djs-duckrock-wizz-jones-jody-godoy-james-hadfield-ian-
 martin&Itemid=1094
END:VEVENT
END:VCALENDAR
