BEGIN:VCALENDAR
VERSION:2.0
PRODID:-//104.152.168.27//NONSGML kigkonsult.se iCalcreator 2.20//
CALSCALE:GREGORIAN
METHOD:PUBLISH
X-WR-TIMEZONE:Asia/Tokyo
BEGIN:VEVENT
UID:event34517@Tokyo Gig Guide
DTSTAMP:20260421T133019Z
CATEGORIES:Experimental\, Funk\, Improvised\, Instrumental
DESCRIPTION:The True Three Per: ホアチョ (WHACHO) (per)\, 仙波清彦 (SEMBA KIYOHIKO)
  (per)\, 藤掛正隆 (FUJIKAKE MASATAKA) (ds)\, + guest KenKen (b)\nCategory: Exp
 erimental\, Funk\, Improvised\, Instrumental\nLink: https://www.tokyogiggu
 ide.com/index.php?option=com_jem&view=event&id=34517:the-true-three-per-wh
 acho-per-semba-kiyohiko-per-fujikake-masataka-ds-guest-kenken-b&Itemid=109
 4\n
DTSTART:20250219T183000
DTEND:20250219T183000
LOCATION:Jirokichi\,Koenji Bldg B1\, 2-3-4 Koenji-kita\,Koenji
SUMMARY:The True Three Per: ホアチョ (WHACHO) (per)\, 仙波清彦 (SEMBA KIYOHIKO) (pe
 r)\, 藤掛正隆 (FUJIKAKE MASATAKA) (ds)\, + guest KenKen (b)
URL:https://www.tokyogigguide.com/index.php?option=com_jem&view=event&id=34
 517:the-true-three-per-whacho-per-semba-kiyohiko-per-fujikake-masataka-ds-
 guest-kenken-b&Itemid=1094
END:VEVENT
END:VCALENDAR
