BEGIN:VCALENDAR
VERSION:2.0
PRODID:-//104.152.168.27//NONSGML kigkonsult.se iCalcreator 2.20//
CALSCALE:GREGORIAN
METHOD:PUBLISH
X-WR-TIMEZONE:Asia/Tokyo
BEGIN:VEVENT
UID:event34640@Tokyo Gig Guide
DTSTAMP:20260421T050438Z
CATEGORIES:Acoustic\, Avant garde\, Free Jazz\, Improvised\, Instrumental
DESCRIPTION:Natsuki Kido (Acoustic Guitar Solo)\nCategory: Acoustic\, Avant
  garde\, Free Jazz\, Improvised\, Instrumental\nLink: https://www.tokyogig
 guide.com/index.php?option=com_jem&view=event&id=34640:natsuki-kido-acoust
 ic-guitar-solo&Itemid=1094\n
DTSTART:20250222T173000
DTEND:20250222T173000
LOCATION:Cabin\,5F\, 2-7-23\, Nakacho\, Atsugi-shi\, Kanagawa\,Atsugi
SUMMARY:Natsuki Kido (Acoustic Guitar Solo)
URL:https://www.tokyogigguide.com/index.php?option=com_jem&view=event&id=34
 640:natsuki-kido-acoustic-guitar-solo&Itemid=1094
END:VEVENT
END:VCALENDAR
