BEGIN:VCALENDAR
VERSION:2.0
PRODID:-//104.152.168.27//NONSGML kigkonsult.se iCalcreator 2.20//
CALSCALE:GREGORIAN
METHOD:PUBLISH
X-WR-TIMEZONE:Asia/Tokyo
BEGIN:VEVENT
UID:event35141@Tokyo Gig Guide
DTSTAMP:20260422T032413Z
CATEGORIES:Experimental\, Improvised\, Instrumental\, Progressive
DESCRIPTION:Natsuki Kido\, Jiro Okada\, Motonosuke Higuchi\nCategory: Exper
 imental\, Improvised\, Instrumental\, Progressive\nLink: https://www.tokyo
 gigguide.com/index.php?option=com_jem&view=event&id=35141:natsuki-kido-jir
 o-okada-motonosuke-higuchi&Itemid=1094\n
DTSTART:20250418T183000
DTEND:20250418T183000
LOCATION:Ongakushitsu DX\,B1F 3-20-4 Nishiwaseda Shinjuku-ku Tokyo\,Takadan
 obaba
SUMMARY:Natsuki Kido\, Jiro Okada\, Motonosuke Higuchi
URL:https://www.tokyogigguide.com/index.php?option=com_jem&view=event&id=35
 141:natsuki-kido-jiro-okada-motonosuke-higuchi&Itemid=1094
END:VEVENT
END:VCALENDAR
