BEGIN:VCALENDAR
VERSION:2.0
PRODID:-//104.152.168.27//NONSGML kigkonsult.se iCalcreator 2.20//
CALSCALE:GREGORIAN
METHOD:PUBLISH
X-WR-TIMEZONE:Asia/Tokyo
BEGIN:VEVENT
UID:event3527@Tokyo Gig Guide
DTSTAMP:20260420T152709Z
CATEGORIES:Psychedelic
DESCRIPTION:Praha Depart\, sajjanu\, Half-Broken Tape Recorders\, 砂の館\nCate
 gory: Psychedelic\nLink: https://www.tokyogigguide.com/index.php?option=co
 m_jem&view=event&id=3527:praha-depart-sajjanu-half-broken-tape-recorders-&
 Itemid=1094\n
DTSTART:20101029T183000
DTEND:20101029T183000
LOCATION:Three\,Kitazawa 5-18-1 B1F\, Setagaya-ku\, Tokyo\,Shimokitazawa
SUMMARY:Praha Depart\, sajjanu\, Half-Broken Tape Recorders\, 砂の館
URL:https://www.tokyogigguide.com/index.php?option=com_jem&view=event&id=35
 27:praha-depart-sajjanu-half-broken-tape-recorders-&Itemid=1094
END:VEVENT
END:VCALENDAR
