BEGIN:VCALENDAR
VERSION:2.0
PRODID:-//104.152.168.27//NONSGML kigkonsult.se iCalcreator 2.20//
CALSCALE:GREGORIAN
METHOD:PUBLISH
X-WR-TIMEZONE:Asia/Tokyo
BEGIN:VEVENT
UID:event36675@Tokyo Gig Guide
DTSTAMP:20260422T050929Z
CATEGORIES:Acoustic\, Jazz\, Pop
DESCRIPTION:EPO\, Natsuki Kido\, Yuka Kido\nCategory: Acoustic\, Jazz\, Pop
 \nLink: https://www.tokyogigguide.com/index.php?option=com_jem&view=event&
 id=36675:epo-natsuki-kido-yuka-kido&Itemid=1094\n
DTSTART:20250801T183000
DTEND:20250801T183000
LOCATION:Dolphy\,2-17-4-2F Miyagawa-cho\, Naka-ku\, Yokohama\,Yokohama
SUMMARY:EPO\, Natsuki Kido\, Yuka Kido
URL:https://www.tokyogigguide.com/index.php?option=com_jem&view=event&id=36
 675:epo-natsuki-kido-yuka-kido&Itemid=1094
END:VEVENT
END:VCALENDAR
