BEGIN:VCALENDAR
VERSION:2.0
PRODID:-//104.152.168.27//NONSGML kigkonsult.se iCalcreator 2.20//
CALSCALE:GREGORIAN
METHOD:PUBLISH
X-WR-TIMEZONE:Asia/Tokyo
BEGIN:VEVENT
UID:event36678@Tokyo Gig Guide
DTSTAMP:20260422T214957Z
CATEGORIES:Avant garde\, Experimental\, Improvised\, Instrumental\, Jazz
DESCRIPTION:Natsuki Kido\, Falcon\, Ippei Kato\nCategory: Avant garde\, Exp
 erimental\, Improvised\, Instrumental\, Jazz\nLink: https://www.tokyogiggu
 ide.com/index.php?option=com_jem&view=event&id=36678:natsuki-kido-falcon-i
 ppei-kato&Itemid=1094\n
DTSTART:20250804T183000
DTEND:20250804T183000
LOCATION:Ongakushitsu DX\,B1F 3-20-4 Nishiwaseda Shinjuku-ku Tokyo\,Takadan
 obaba
SUMMARY:Natsuki Kido\, Falcon\, Ippei Kato
URL:https://www.tokyogigguide.com/index.php?option=com_jem&view=event&id=36
 678:natsuki-kido-falcon-ippei-kato&Itemid=1094
END:VEVENT
END:VCALENDAR
