BEGIN:VCALENDAR
VERSION:2.0
PRODID:-//104.152.168.27//NONSGML kigkonsult.se iCalcreator 2.20//
CALSCALE:GREGORIAN
METHOD:PUBLISH
X-WR-TIMEZONE:Asia/Tokyo
BEGIN:VEVENT
UID:event36682@Tokyo Gig Guide
DTSTAMP:20260420T103901Z
CATEGORIES:Acoustic\, Improvised\, Instrumental\, Jazz\, Progressive
DESCRIPTION:Era (Akihisa Tsuboi\, Natsuki Kido)\nCategory: Acoustic\, Impro
 vised\, Instrumental\, Jazz\, Progressive\nLink: https://www.tokyogigguide
 .com/index.php?option=com_jem&view=event&id=36682:era-akihisa-tsuboi-natsu
 ki-kido&Itemid=1094\n
DTSTART:20250829T183000
DTEND:20250829T183000
LOCATION:Cabin\,5F\, 2-7-23\, Nakacho\, Atsugi-shi\, Kanagawa\,Atsugi
SUMMARY:Era (Akihisa Tsuboi\, Natsuki Kido)
URL:https://www.tokyogigguide.com/index.php?option=com_jem&view=event&id=36
 682:era-akihisa-tsuboi-natsuki-kido&Itemid=1094
END:VEVENT
END:VCALENDAR
