BEGIN:VCALENDAR
VERSION:2.0
PRODID:-//104.152.168.27//NONSGML kigkonsult.se iCalcreator 2.20//
CALSCALE:GREGORIAN
METHOD:PUBLISH
X-WR-TIMEZONE:Asia/Tokyo
BEGIN:VEVENT
UID:event37256@Tokyo Gig Guide
DTSTAMP:20260426T010706Z
CATEGORIES:Ambient\, Improvised\, Krautrock\, Neo-psychedelia\, Psychedelic
DESCRIPTION:hYouU€a (phouca?)\, MOKU\, 越冬\, 劉堅白 (Dope Purple) × Hyozo × 伏見陵
  × Till Yawuh\, YELLOWUHURU\nCategory: Ambient\, Improvised\, Krautrock\, 
 Neo-psychedelia\, Psychedelic\nLink: https://www.tokyogigguide.com/index.p
 hp?option=com_jem&view=event&id=37256:hyouu-a-phouca-moku-dope-purple-hyoz
 o-till-yawuh-yellowuhuru&Itemid=1094\n
DTSTART:20250917T183000
DTEND:20250917T183000
LOCATION:SPREAD\,2-12-6 Kitazawa\, Setagaya-ku\, Tokyo\,Shimokitazawa
SUMMARY:hYouU€a (phouca?)\, MOKU\, 越冬\, 劉堅白 (Dope Purple) × Hyozo × 伏見陵 × T
 ill Yawuh\, YELLOWUHURU
URL:https://www.tokyogigguide.com/index.php?option=com_jem&view=event&id=37
 256:hyouu-a-phouca-moku-dope-purple-hyozo-till-yawuh-yellowuhuru&Itemid=10
 94
END:VEVENT
END:VCALENDAR
