BEGIN:VCALENDAR
VERSION:2.0
PRODID:-//104.152.168.27//NONSGML kigkonsult.se iCalcreator 2.20//
CALSCALE:GREGORIAN
METHOD:PUBLISH
X-WR-TIMEZONE:Asia/Tokyo
BEGIN:VEVENT
UID:event37981@Tokyo Gig Guide
DTSTAMP:20260425T141408Z
CATEGORIES:Alternative\, Garage Rock\, Indie-Rock\, Rock\, Rock n Roll
DESCRIPTION:PATHOS ACTOR\, SLLOW\, salsa\, Komori + Yusa (from Half broken 
 Taperecorders)\nCategory: Alternative\, Garage Rock\, Indie-Rock\, Rock\, 
 Rock n Roll\nLink: https://www.tokyogigguide.com/index.php?option=com_jem&
 view=event&id=37981:pathos-actor-sllow-salsa-komori-yusa-from-harf-broken-
 taperecorders&Itemid=1094\n
DTSTART:20251126T183000
DTEND:20251126T183000
LOCATION:SPREAD\,2-12-6 Kitazawa\, Setagaya-ku\, Tokyo\,Shimokitazawa
SUMMARY:PATHOS ACTOR\, SLLOW\, salsa\, Komori + Yusa (from Half broken Tape
 recorders)
URL:https://www.tokyogigguide.com/index.php?option=com_jem&view=event&id=37
 981:pathos-actor-sllow-salsa-komori-yusa-from-harf-broken-taperecorders&It
 emid=1094
END:VEVENT
END:VCALENDAR
