BEGIN:VCALENDAR
VERSION:2.0
PRODID:-//104.152.168.27//NONSGML kigkonsult.se iCalcreator 2.20//
CALSCALE:GREGORIAN
METHOD:PUBLISH
X-WR-TIMEZONE:Asia/Tokyo
BEGIN:VEVENT
UID:event38966@Tokyo Gig Guide
DTSTAMP:20260421T102253Z
CATEGORIES:Acoustic\, Alternative\, Avant garde\, Free Jazz\, Improvised
DESCRIPTION:Yuki Saga\, Kaori Komura\, Gizaemon Fruta\nCategory: Acoustic\,
  Alternative\, Avant garde\, Free Jazz\, Improvised\nLink: https://www.tok
 yogigguide.com/index.php?option=com_jem&view=event&id=38966:saga-yuki-kaor
 i-komura-fruta-gizaemon&Itemid=1094\n
DTSTART:20251221T153000
DTEND:20251221T153000
LOCATION:In-F\,3F 3-4-19 higashiooizumi\, nerima-ku\, Tokyo\,Oizumigakuen
SUMMARY:Yuki Saga\, Kaori Komura\, Gizaemon Fruta
URL:https://www.tokyogigguide.com/index.php?option=com_jem&view=event&id=38
 966:saga-yuki-kaori-komura-fruta-gizaemon&Itemid=1094
END:VEVENT
END:VCALENDAR
