BEGIN:VCALENDAR
VERSION:2.0
PRODID:-//104.152.168.27//NONSGML kigkonsult.se iCalcreator 2.20//
CALSCALE:GREGORIAN
METHOD:PUBLISH
X-WR-TIMEZONE:Asia/Tokyo
BEGIN:VEVENT
UID:event39074@Tokyo Gig Guide
DTSTAMP:20260425T004313Z
CATEGORIES:Experimental\, Improvised
DESCRIPTION:Hans Koch + Paed Conca + Michael Thieke + Kevin Sommer + Yasumu
 ne Morishige\nCategory: Experimental\, Improvised\nLink: https://www.tokyo
 gigguide.com/index.php?option=com_jem&view=event&id=39074:hans-koch-paed-c
 onca-michael-thieke-kevin-sommer-yasumune-morishige&Itemid=1094\n
DTSTART:20260515T193000
DTEND:20260515T193000
LOCATION:Permian\,B1\, 3-14-4\, Nishigotanda\, Shinagawa-ku\, Tokyo\,Meguro
SUMMARY:Hans Koch + Paed Conca + Michael Thieke + Kevin Sommer + Yasumune M
 orishige
URL:https://www.tokyogigguide.com/index.php?option=com_jem&view=event&id=39
 074:hans-koch-paed-conca-michael-thieke-kevin-sommer-yasumune-morishige&It
 emid=1094
END:VEVENT
END:VCALENDAR
