BEGIN:VCALENDAR
VERSION:2.0
PRODID:-//104.152.168.27//NONSGML kigkonsult.se iCalcreator 2.20//
CALSCALE:GREGORIAN
METHOD:PUBLISH
X-WR-TIMEZONE:Asia/Tokyo
BEGIN:VEVENT
UID:event3914@Tokyo Gig Guide
DTSTAMP:20260426T012447Z
CATEGORIES:Indie-Rock
DESCRIPTION:Icon Girl Pistols & guests\nCategory: Indie-Rock\nLink: https:/
 /www.tokyogigguide.com/index.php?option=com_jem&view=event&id=3914:icon-gi
 rl-pistols-a-guests&Itemid=1094\n
DTSTART:20101223T193000
DTEND:20101223T193000
LOCATION:NOB\,Maruyamacho 1-3 BF\, Shibuya-ku\,Shibuya
SUMMARY:Icon Girl Pistols & guests
URL:https://www.tokyogigguide.com/index.php?option=com_jem&view=event&id=39
 14:icon-girl-pistols-a-guests&Itemid=1094
END:VEVENT
END:VCALENDAR
