BEGIN:VCALENDAR
VERSION:2.0
PRODID:-//104.152.168.27//NONSGML kigkonsult.se iCalcreator 2.20//
CALSCALE:GREGORIAN
METHOD:PUBLISH
X-WR-TIMEZONE:Asia/Tokyo
BEGIN:VEVENT
UID:event39263@Tokyo Gig Guide
DTSTAMP:20260420T192706Z
CATEGORIES:Ambient\, Avant garde\, Experimental\, Improvised
DESCRIPTION:Naoyasu Takahashi\nCategory: Ambient\, Avant garde\, Experiment
 al\, Improvised\nLink: https://www.tokyogigguide.com/index.php?option=com_
 jem&view=event&id=39263:naoyasu-takahashi&Itemid=1094\n
DTSTART:20260501T193000
DTEND:20260501T193000
LOCATION:Flying Teapot\,Enomoto Bldg B1F\, 27-7 Sakae-cho\, Nerima-ku\,Ekod
 a
SUMMARY:Naoyasu Takahashi
URL:https://www.tokyogigguide.com/index.php?option=com_jem&view=event&id=39
 263:naoyasu-takahashi&Itemid=1094
END:VEVENT
END:VCALENDAR
