BEGIN:VCALENDAR
VERSION:2.0
PRODID:-//104.152.168.27//NONSGML kigkonsult.se iCalcreator 2.20//
CALSCALE:GREGORIAN
METHOD:PUBLISH
X-WR-TIMEZONE:Asia/Tokyo
BEGIN:VEVENT
UID:event39268@Tokyo Gig Guide
DTSTAMP:20260422T050728Z
CATEGORIES:Acoustic\, Electronic\, Improvised\, Instrumental
DESCRIPTION:Kazutomo Yamamoto (山本和智)\, Kaoru Nishimura (西村薫)\nCategory: Aco
 ustic\, Electronic\, Improvised\, Instrumental\nLink: https://www.tokyogig
 guide.com/index.php?option=com_jem&view=event&id=39268:kazutomo-yamamoto-k
 aoru-nishimura&Itemid=1094\n
DTSTART:20260507T190000
DTEND:20260507T190000
LOCATION:space o\,Sugizaki Bld. B1\, Chihaya 4-39-5\, Toshima-ku\,Senkawa
SUMMARY:Kazutomo Yamamoto (山本和智)\, Kaoru Nishimura (西村薫)
URL:https://www.tokyogigguide.com/index.php?option=com_jem&view=event&id=39
 268:kazutomo-yamamoto-kaoru-nishimura&Itemid=1094
END:VEVENT
END:VCALENDAR
