BEGIN:VCALENDAR
VERSION:2.0
PRODID:-//104.152.168.27//NONSGML kigkonsult.se iCalcreator 2.20//
CALSCALE:GREGORIAN
METHOD:PUBLISH
X-WR-TIMEZONE:Asia/Tokyo
BEGIN:VEVENT
UID:event3945@Tokyo Gig Guide
DTSTAMP:20260422T152354Z
CATEGORIES:Experimental
DESCRIPTION:Keiji Haino\nCategory: Experimental\nLink: https://www.tokyogig
 guide.com/index.php?option=com_jem&view=event&id=3945:keiji-haino&Itemid=1
 094\n
DTSTART;VALUE=DATE:20101230
DTEND;VALUE=DATE:20101231
LOCATION:Showboat\,Oak Hill Koenji B1F\, 3-17-2 Koenji Kita\,Koenji
SUMMARY:Keiji Haino
URL:https://www.tokyogigguide.com/index.php?option=com_jem&view=event&id=39
 45:keiji-haino&Itemid=1094
END:VEVENT
END:VCALENDAR
