BEGIN:VCALENDAR
VERSION:2.0
PRODID:-//104.152.168.27//NONSGML kigkonsult.se iCalcreator 2.20//
CALSCALE:GREGORIAN
METHOD:PUBLISH
X-WR-TIMEZONE:Asia/Tokyo
BEGIN:VEVENT
UID:event39961@Tokyo Gig Guide
DTSTAMP:20260426T025607Z
CATEGORIES:Electronic Rock\, New Wave\, Punk\, Synth-pop
DESCRIPTION:gaizao\nCategory: Electronic Rock\, New Wave\, Punk\, Synth-pop
 \nLink: https://www.tokyogigguide.com/index.php?option=com_jem&view=event&
 id=39961:gaizao&Itemid=1094\n
DTSTART:20260725T180000
DTEND:20260725T180000
LOCATION:Shinjuku Heist\,Shinjuku
SUMMARY:gaizao
URL:https://www.tokyogigguide.com/index.php?option=com_jem&view=event&id=39
 961:gaizao&Itemid=1094
END:VEVENT
END:VCALENDAR
