BEGIN:VCALENDAR
VERSION:2.0
PRODID:-//104.152.168.27//NONSGML kigkonsult.se iCalcreator 2.20//
CALSCALE:GREGORIAN
METHOD:PUBLISH
X-WR-TIMEZONE:Asia/Tokyo
BEGIN:VEVENT
UID:event40082@Tokyo Gig Guide
DTSTAMP:20260423T192734Z
CATEGORIES:Experimental\, Improvised\, Indie-Pop\, Indie-Rock
DESCRIPTION:MANDOG (from Kyoto)\, 利光暁子 (Toshimitsu Akiko) + なるけしんご (Naruke 
 Shingo) + 熊田央 (Kumada Tadashi)\, 砂場 (sunaba)\nCategory: Experimental\, Imp
 rovised\, Indie-Pop\, Indie-Rock\nLink: https://www.tokyogigguide.com/inde
 x.php?option=com_jem&view=event&id=40082:mandog-guitar-from-kyoto-g-vo-b-d
 r-toshimitsu-akiko-naruke-shingo-kumada-tadashi-sunaba&Itemid=1094\n
DTSTART:20260426T190000
DTEND:20260426T190000
LOCATION:Chikyuya\,Kunitachi-shi Higashi 1-16-13 B1 \,Kunitachi
SUMMARY:MANDOG (from Kyoto)\, 利光暁子 (Toshimitsu Akiko) + なるけしんご (Naruke Shin
 go) + 熊田央 (Kumada Tadashi)\, 砂場 (sunaba)
URL:https://www.tokyogigguide.com/index.php?option=com_jem&view=event&id=40
 082:mandog-guitar-from-kyoto-g-vo-b-dr-toshimitsu-akiko-naruke-shingo-kuma
 da-tadashi-sunaba&Itemid=1094
END:VEVENT
END:VCALENDAR
