BEGIN:VCALENDAR
VERSION:2.0
PRODID:-//104.152.168.27//NONSGML kigkonsult.se iCalcreator 2.20//
CALSCALE:GREGORIAN
METHOD:PUBLISH
X-WR-TIMEZONE:Asia/Tokyo
BEGIN:VEVENT
UID:event40149@Tokyo Gig Guide
DTSTAMP:20260421T075018Z
CATEGORIES:Alternative\, Avant garde\, Improvised\, Progressive
DESCRIPTION:Sekkutsu Jean (Kenji Sato\, Tatsuya Yoshida) + Yuji Katsui\nCat
 egory: Alternative\, Avant garde\, Improvised\, Progressive\nLink: https:/
 /www.tokyogigguide.com/index.php?option=com_jem&view=event&id=40149:sekkut
 su-jean-kenji-sato-tatsuya-yoshida-yuji-katsui&Itemid=1094\n
DTSTART:20260511T190000
DTEND:20260511T190000
LOCATION:Aja\,Kaneko Building B1\, 2-21-5 Chuo\, Nakano-ku\, Tokyo\,Nakano-
 sakaue
SUMMARY:Sekkutsu Jean (Kenji Sato\, Tatsuya Yoshida) + Yuji Katsui
URL:https://www.tokyogigguide.com/index.php?option=com_jem&view=event&id=40
 149:sekkutsu-jean-kenji-sato-tatsuya-yoshida-yuji-katsui&Itemid=1094
END:VEVENT
END:VCALENDAR
