BEGIN:VCALENDAR
VERSION:2.0
PRODID:-//104.152.168.27//NONSGML kigkonsult.se iCalcreator 2.20//
CALSCALE:GREGORIAN
METHOD:PUBLISH
X-WR-TIMEZONE:Asia/Tokyo
BEGIN:VEVENT
UID:event4015@Tokyo Gig Guide
DTSTAMP:20260425T131042Z
CATEGORIES:Electro-Pop
DESCRIPTION:Cottonioo\, DJ Sumire\nCategory: Electro-Pop\nLink: https://www
 .tokyogigguide.com/index.php?option=com_jem&view=event&id=4015:cottonioo-d
 j-sumire&Itemid=1094\n
DTSTART:20110107T200000
DTEND:20110107T200000
LOCATION:Knock (Koenji)\,Koenji Minami 3-48-6  B1F\,Koenji
SUMMARY:Cottonioo\, DJ Sumire
URL:https://www.tokyogigguide.com/index.php?option=com_jem&view=event&id=40
 15:cottonioo-dj-sumire&Itemid=1094
END:VEVENT
END:VCALENDAR
