BEGIN:VCALENDAR
VERSION:2.0
PRODID:-//104.152.168.27//NONSGML kigkonsult.se iCalcreator 2.20//
CALSCALE:GREGORIAN
METHOD:PUBLISH
X-WR-TIMEZONE:Asia/Tokyo
BEGIN:VEVENT
UID:event40186@Tokyo Gig Guide
DTSTAMP:20260421T123646Z
CATEGORIES:Experimental\, Improvised
DESCRIPTION:archeus (Keiko Higuchi\, Shizuo Uchida\, TOMO)\, Vakvak Samanda
 l (Ken Matsutani\, Sachiko)\, Dave McMahon\nCategory: Experimental\, Impro
 vised\nLink: https://www.tokyogigguide.com/index.php?option=com_jem&view=e
 vent&id=40186:archeus-keiko-higuchi-shizuo-uchida-tomo-vakvak-samandal-ken
 -matsutani-sachiko-dave-mcmahon&Itemid=1094\n
DTSTART:20260426T190000
DTEND:20260426T190000
LOCATION:Oriental Force\,#8 Nitto Build. B1\, Koenji-Minami 3-38-6\,Koenji
SUMMARY:archeus (Keiko Higuchi\, Shizuo Uchida\, TOMO)\, Vakvak Samandal (K
 en Matsutani\, Sachiko)\, Dave McMahon
URL:https://www.tokyogigguide.com/index.php?option=com_jem&view=event&id=40
 186:archeus-keiko-higuchi-shizuo-uchida-tomo-vakvak-samandal-ken-matsutani
 -sachiko-dave-mcmahon&Itemid=1094
END:VEVENT
END:VCALENDAR
