BEGIN:VCALENDAR
VERSION:2.0
PRODID:-//104.152.168.27//NONSGML kigkonsult.se iCalcreator 2.20//
CALSCALE:GREGORIAN
METHOD:PUBLISH
X-WR-TIMEZONE:Asia/Tokyo
BEGIN:VEVENT
UID:event40244@Tokyo Gig Guide
DTSTAMP:20260421T004322Z
CATEGORIES:Unclassifiable
DESCRIPTION:Chrome Hill & Dōjō\nCategory: Unclassifiable\nLink: https://www
 .tokyogigguide.com/index.php?option=com_jem&view=event&id=40244:chrome-hil
 l-dojo&Itemid=1094\n
DTSTART:20260323T183000
DTEND:20260323T183000
LOCATION:Dolphy\,2-17-4-2F Miyagawa-cho\, Naka-ku\, Yokohama\,Yokohama
SUMMARY:Chrome Hill & Dōjō
URL:https://www.tokyogigguide.com/index.php?option=com_jem&view=event&id=40
 244:chrome-hill-dojo&Itemid=1094
END:VEVENT
END:VCALENDAR
