BEGIN:VCALENDAR
VERSION:2.0
PRODID:-//104.152.168.27//NONSGML kigkonsult.se iCalcreator 2.20//
CALSCALE:GREGORIAN
METHOD:PUBLISH
X-WR-TIMEZONE:Asia/Tokyo
BEGIN:VEVENT
UID:event40479@Tokyo Gig Guide
DTSTAMP:20260420T112519Z
CATEGORIES:Fusion\, Instrumental\, Jazz\, Pop\, Progressive
DESCRIPTION:MUMU\nCategory: Fusion\, Instrumental\, Jazz\, Pop\, Progressiv
 e\nLink: https://www.tokyogigguide.com/index.php?option=com_jem&view=event
 &id=40479:mumu&Itemid=1094\n
DTSTART:20260527T183000
DTEND:20260527T183000
LOCATION:Stormy Monday\,No.3 YACHI Bld 2F 1-3-3 Okina-Cho Naka-Ku Yokohama\
 ,Yokohama
SUMMARY:MUMU
URL:https://www.tokyogigguide.com/index.php?option=com_jem&view=event&id=40
 479:mumu&Itemid=1094
END:VEVENT
END:VCALENDAR
